Package: MEDME Version: 1.67.0 Command: rm -rf MEDME.buildbin-libdir && mkdir MEDME.buildbin-libdir && E:\biocbuild\bbs-3.21-bioc\R\bin\R.exe CMD INSTALL --build --library=MEDME.buildbin-libdir MEDME_1.67.0.tar.gz StartedAt: 2025-02-21 08:29:01 -0500 (Fri, 21 Feb 2025) EndedAt: 2025-02-21 08:29:30 -0500 (Fri, 21 Feb 2025) EllapsedTime: 28.5 seconds RetCode: 0 Status: OK PackageFile: MEDME_1.67.0.zip PackageFileSize: 548.4 KiB