Package: MEDME Version: 1.67.0 Command: /home/biocbuild/bbs-3.21-bioc/R/bin/R CMD check --install=check:MEDME.install-out.txt --library=/home/biocbuild/bbs-3.21-bioc/R/site-library --timings MEDME_1.67.0.tar.gz StartedAt: 2025-02-19 23:46:58 -0500 (Wed, 19 Feb 2025) EndedAt: 2025-02-19 23:49:11 -0500 (Wed, 19 Feb 2025) EllapsedTime: 133.2 seconds RetCode: 0 Status: WARNINGS CheckDir: MEDME.Rcheck Warnings: 1