Package: MEDME Version: 1.67.0 Command: /home/biocbuild/R/R/bin/R CMD build --keep-empty-dirs --no-resave-data MEDME StartedAt: 2025-01-29 00:06:08 -0000 (Wed, 29 Jan 2025) EndedAt: 2025-01-29 00:06:53 -0000 (Wed, 29 Jan 2025) EllapsedTime: 45.0 seconds RetCode: 0 Status: OK PackageFile: MEDME_1.67.0.tar.gz PackageFileSize: 441.9 KiB