Package: MEDIPS Version: 1.59.0 Command: /Library/Frameworks/R.framework/Resources/bin/R CMD INSTALL MEDIPS StartedAt: 2025-02-19 15:13:45 -0500 (Wed, 19 Feb 2025) EndedAt: 2025-02-19 15:14:01 -0500 (Wed, 19 Feb 2025) EllapsedTime: 15.8 seconds RetCode: 0 Status: OK