Package: MEDIPS Version: 1.59.0 Command: /Library/Frameworks/R.framework/Resources/bin/R CMD build --keep-empty-dirs --no-resave-data MEDIPS StartedAt: 2025-02-19 16:51:18 -0500 (Wed, 19 Feb 2025) EndedAt: 2025-02-19 16:52:08 -0500 (Wed, 19 Feb 2025) EllapsedTime: 49.6 seconds RetCode: 0 Status: OK PackageFile: MEDIPS_1.59.0.tar.gz PackageFileSize: 323 KiB