Package: MEAL Version: 1.37.0 Command: /Library/Frameworks/R.framework/Resources/bin/R CMD build --keep-empty-dirs --no-resave-data MEAL StartedAt: 2025-02-19 17:14:24 -0500 (Wed, 19 Feb 2025) EndedAt: 2025-02-19 17:21:24 -0500 (Wed, 19 Feb 2025) EllapsedTime: 420.2 seconds RetCode: 0 Status: OK PackageFile: MEAL_1.37.0.tar.gz PackageFileSize: 2.067 MiB