Package: MDTS Version: 1.27.0 Command: /Library/Frameworks/R.framework/Resources/bin/R CMD INSTALL MDTS StartedAt: 2025-02-21 15:17:25 -0500 (Fri, 21 Feb 2025) EndedAt: 2025-02-21 15:17:58 -0500 (Fri, 21 Feb 2025) EllapsedTime: 33.0 seconds RetCode: 0 Status: OK