Package: MDTS Version: 1.27.0 Command: rm -rf MDTS.buildbin-libdir && mkdir MDTS.buildbin-libdir && /Users/biocbuild/BBS/utils/build-universal.sh MDTS_1.27.0.tar.gz /Library/Frameworks/R.framework/Resources/bin/R MDTS.buildbin-libdir StartedAt: 2025-02-22 00:39:32 -0500 (Sat, 22 Feb 2025) EndedAt: 2025-02-22 00:40:08 -0500 (Sat, 22 Feb 2025) EllapsedTime: 35.9 seconds RetCode: 0 Status: OK PackageFile: MDTS_1.27.0.tgz PackageFileSize: 79.44 KiB