Package: MCbiclust Version: 1.31.0 Command: /home/biocbuild/bbs-3.21-bioc/R/bin/R CMD INSTALL MCbiclust StartedAt: 2025-02-19 15:42:46 -0500 (Wed, 19 Feb 2025) EndedAt: 2025-02-19 15:43:05 -0500 (Wed, 19 Feb 2025) EllapsedTime: 19.1 seconds RetCode: 0 Status: OK