Package: MCbiclust Version: 1.31.0 Command: rm -rf MCbiclust.buildbin-libdir && mkdir MCbiclust.buildbin-libdir && /Users/biocbuild/BBS/utils/build-universal.sh MCbiclust_1.31.0.tar.gz /Library/Frameworks/R.framework/Resources/bin/R MCbiclust.buildbin-libdir StartedAt: 2025-02-19 22:27:41 -0500 (Wed, 19 Feb 2025) EndedAt: 2025-02-19 22:27:50 -0500 (Wed, 19 Feb 2025) EllapsedTime: 9.2 seconds RetCode: 0 Status: OK PackageFile: MCbiclust_1.31.0.tgz PackageFileSize: 8.03 MiB