Package: MBttest Version: 1.35.0 Command: /Library/Frameworks/R.framework/Resources/bin/R CMD INSTALL MBttest StartedAt: 2025-02-19 15:04:38 -0500 (Wed, 19 Feb 2025) EndedAt: 2025-02-19 15:04:46 -0500 (Wed, 19 Feb 2025) EllapsedTime: 8.3 seconds RetCode: 0 Status: OK