Package: MBttest Version: 1.35.0 Command: /Library/Frameworks/R.framework/Resources/bin/R CMD build --keep-empty-dirs --no-resave-data MBttest StartedAt: 2025-02-19 17:13:54 -0500 (Wed, 19 Feb 2025) EndedAt: 2025-02-19 17:14:17 -0500 (Wed, 19 Feb 2025) EllapsedTime: 22.8 seconds RetCode: 0 Status: OK PackageFile: MBttest_1.35.0.tar.gz PackageFileSize: 3.447 MiB