Package: MBttest Version: 1.35.0 Command: rm -rf MBttest.buildbin-libdir && mkdir MBttest.buildbin-libdir && /Users/biocbuild/BBS/utils/build-universal.sh MBttest_1.35.0.tar.gz /Library/Frameworks/R.framework/Resources/bin/R MBttest.buildbin-libdir StartedAt: 2025-02-20 00:39:45 -0500 (Thu, 20 Feb 2025) EndedAt: 2025-02-20 00:39:52 -0500 (Thu, 20 Feb 2025) EllapsedTime: 7.0 seconds RetCode: 0 Status: OK PackageFile: MBttest_1.35.0.tgz PackageFileSize: 2.588 MiB