Package: MBQN Version: 2.19.0 Command: rm -rf MBQN.buildbin-libdir && mkdir MBQN.buildbin-libdir && E:\biocbuild\bbs-3.21-bioc\R\bin\R.exe CMD INSTALL --build --library=MBQN.buildbin-libdir MBQN_2.19.0.tar.gz StartedAt: 2025-02-21 08:28:21 -0500 (Fri, 21 Feb 2025) EndedAt: 2025-02-21 08:28:30 -0500 (Fri, 21 Feb 2025) EllapsedTime: 9.1 seconds RetCode: 0 Status: OK PackageFile: MBQN_2.19.0.zip PackageFileSize: 142.6 KiB