Package: MBQN Version: 2.19.0 Command: /Library/Frameworks/R.framework/Resources/bin/R CMD build --keep-empty-dirs --no-resave-data MBQN StartedAt: 2025-02-19 16:50:49 -0500 (Wed, 19 Feb 2025) EndedAt: 2025-02-19 16:50:54 -0500 (Wed, 19 Feb 2025) EllapsedTime: 5.0 seconds RetCode: 0 Status: OK PackageFile: MBQN_2.19.0.tar.gz PackageFileSize: 220.8 KiB