Package: MBECS Version: 1.11.0 Command: E:\biocbuild\bbs-3.21-bioc\R\bin\R.exe CMD INSTALL MBECS StartedAt: 2025-02-19 16:41:35 -0500 (Wed, 19 Feb 2025) EndedAt: 2025-02-19 16:42:17 -0500 (Wed, 19 Feb 2025) EllapsedTime: 42.1 seconds RetCode: 0 Status: OK