Package: MBECS Version: 1.11.0 Command: rm -rf MBECS.buildbin-libdir && mkdir MBECS.buildbin-libdir && E:\biocbuild\bbs-3.21-bioc\R\bin\R.exe CMD INSTALL --build --library=MBECS.buildbin-libdir MBECS_1.11.0.tar.gz StartedAt: 2025-02-20 08:06:53 -0500 (Thu, 20 Feb 2025) EndedAt: 2025-02-20 08:07:30 -0500 (Thu, 20 Feb 2025) EllapsedTime: 37.0 seconds RetCode: 0 Status: OK PackageFile: MBECS_1.11.0.zip PackageFileSize: 531.3 KiB