Package: MBECS Version: 1.11.0 Command: rm -rf MBECS.buildbin-libdir && mkdir MBECS.buildbin-libdir && /Users/biocbuild/BBS/utils/build-universal.sh MBECS_1.11.0.tar.gz /Library/Frameworks/R.framework/Resources/bin/R MBECS.buildbin-libdir StartedAt: 2025-02-20 00:39:40 -0500 (Thu, 20 Feb 2025) EndedAt: 2025-02-20 00:40:10 -0500 (Thu, 20 Feb 2025) EllapsedTime: 30.0 seconds RetCode: 0 Status: OK PackageFile: MBECS_1.11.0.tgz PackageFileSize: 801.2 KiB