Package: MBCB Version: 1.61.0 Command: E:\biocbuild\bbs-3.21-bioc\R\bin\R.exe CMD check --no-multiarch --install=check:MBCB.install-out.txt --library=E:\biocbuild\bbs-3.21-bioc\R\library --no-vignettes --timings MBCB_1.61.0.tar.gz StartedAt: 2025-02-18 02:25:18 -0500 (Tue, 18 Feb 2025) EndedAt: 2025-02-18 02:25:51 -0500 (Tue, 18 Feb 2025) EllapsedTime: 33.1 seconds RetCode: 0 Status: OK CheckDir: MBCB.Rcheck Warnings: 0