Package: MBCB Version: 1.61.0 Command: /Library/Frameworks/R.framework/Resources/bin/R CMD build --keep-empty-dirs --no-resave-data MBCB StartedAt: 2025-02-19 17:13:29 -0500 (Wed, 19 Feb 2025) EndedAt: 2025-02-19 17:13:41 -0500 (Wed, 19 Feb 2025) EllapsedTime: 11.4 seconds RetCode: 0 Status: OK PackageFile: MBCB_1.61.0.tar.gz PackageFileSize: 409.5 KiB