Package: MBCB Version: 1.61.0 Command: rm -rf MBCB.buildbin-libdir && mkdir MBCB.buildbin-libdir && /Users/biocbuild/BBS/utils/build-universal.sh MBCB_1.61.0.tar.gz /Library/Frameworks/R.framework/Resources/bin/R MBCB.buildbin-libdir StartedAt: 2025-02-20 00:39:40 -0500 (Thu, 20 Feb 2025) EndedAt: 2025-02-20 00:39:50 -0500 (Thu, 20 Feb 2025) EllapsedTime: 9.4 seconds RetCode: 0 Status: OK PackageFile: MBCB_1.61.0.tgz PackageFileSize: 471.3 KiB