Package: MBAmethyl Version: 1.41.0 Command: chmod a+r MBAmethyl -R && E:\biocbuild\bbs-3.21-bioc\R\bin\R.exe CMD build --keep-empty-dirs --no-resave-data MBAmethyl StartedAt: 2025-02-20 19:45:17 -0500 (Thu, 20 Feb 2025) EndedAt: 2025-02-20 19:45:35 -0500 (Thu, 20 Feb 2025) EllapsedTime: 17.9 seconds RetCode: 0 Status: OK PackageFile: MBAmethyl_1.41.0.tar.gz PackageFileSize: 87.11 KiB