Package: MBAmethyl Version: 1.41.0 Command: rm -rf MBAmethyl.buildbin-libdir && mkdir MBAmethyl.buildbin-libdir && E:\biocbuild\bbs-3.21-bioc\R\bin\R.exe CMD INSTALL --build --library=MBAmethyl.buildbin-libdir MBAmethyl_1.41.0.tar.gz StartedAt: 2025-02-21 08:28:01 -0500 (Fri, 21 Feb 2025) EndedAt: 2025-02-21 08:28:15 -0500 (Fri, 21 Feb 2025) EllapsedTime: 14.0 seconds RetCode: 0 Status: OK PackageFile: MBAmethyl_1.41.0.zip PackageFileSize: 113.7 KiB