Package: MBAmethyl Version: 1.41.0 Command: /home/biocbuild/bbs-3.21-bioc/R/bin/R CMD check --install=check:MBAmethyl.install-out.txt --library=/home/biocbuild/bbs-3.21-bioc/R/site-library --timings MBAmethyl_1.41.0.tar.gz StartedAt: 2025-02-20 23:18:18 -0500 (Thu, 20 Feb 2025) EndedAt: 2025-02-20 23:18:41 -0500 (Thu, 20 Feb 2025) EllapsedTime: 22.1 seconds RetCode: 0 Status: OK CheckDir: MBAmethyl.Rcheck Warnings: 0