Package: MBAmethyl Version: 1.41.0 Command: /home/biocbuild/bbs-3.21-bioc/R/bin/R CMD build --keep-empty-dirs --no-resave-data MBAmethyl StartedAt: 2025-02-20 18:03:49 -0500 (Thu, 20 Feb 2025) EndedAt: 2025-02-20 18:03:57 -0500 (Thu, 20 Feb 2025) EllapsedTime: 8.0 seconds RetCode: 0 Status: OK PackageFile: MBAmethyl_1.41.0.tar.gz PackageFileSize: 88.1 KiB