Package: MBAmethyl Version: 1.41.0 Command: /Library/Frameworks/R.framework/Resources/bin/R CMD INSTALL MBAmethyl StartedAt: 2025-02-20 15:02:53 -0500 (Thu, 20 Feb 2025) EndedAt: 2025-02-20 15:03:06 -0500 (Thu, 20 Feb 2025) EllapsedTime: 13.2 seconds RetCode: 0 Status: OK