Package: MBAmethyl Version: 1.41.0 Command: /Library/Frameworks/R.framework/Resources/bin/R CMD check --install=check:MBAmethyl.install-out.txt --library=/Library/Frameworks/R.framework/Resources/library --no-vignettes --timings MBAmethyl_1.41.0.tar.gz StartedAt: 2025-02-20 21:23:43 -0500 (Thu, 20 Feb 2025) EndedAt: 2025-02-20 21:24:10 -0500 (Thu, 20 Feb 2025) EllapsedTime: 26.4 seconds RetCode: 0 Status: OK CheckDir: MBAmethyl.Rcheck Warnings: 0