Package: MBAmethyl Version: 1.41.0 Command: /home/biocbuild/R/R/bin/R CMD build --keep-empty-dirs --no-resave-data MBAmethyl StartedAt: 2025-01-29 00:02:33 -0000 (Wed, 29 Jan 2025) EndedAt: 2025-01-29 00:02:44 -0000 (Wed, 29 Jan 2025) EllapsedTime: 11.0 seconds RetCode: 0 Status: OK PackageFile: MBAmethyl_1.41.0.tar.gz PackageFileSize: 76.13 KiB