Package: MBAmethyl Version: 1.41.0 Command: /Library/Frameworks/R.framework/Resources/bin/R CMD check --install=check:MBAmethyl.install-out.txt --library=/Library/Frameworks/R.framework/Resources/library --no-vignettes --timings MBAmethyl_1.41.0.tar.gz StartedAt: 2025-02-20 20:00:04 -0500 (Thu, 20 Feb 2025) EndedAt: 2025-02-20 20:00:16 -0500 (Thu, 20 Feb 2025) EllapsedTime: 11.1 seconds RetCode: 0 Status: OK CheckDir: MBAmethyl.Rcheck Warnings: 0