Package: MBAmethyl Version: 1.41.0 Command: /Library/Frameworks/R.framework/Resources/bin/R CMD build --keep-empty-dirs --no-resave-data MBAmethyl StartedAt: 2025-02-20 16:49:33 -0500 (Thu, 20 Feb 2025) EndedAt: 2025-02-20 16:49:38 -0500 (Thu, 20 Feb 2025) EllapsedTime: 5.0 seconds RetCode: 0 Status: OK PackageFile: MBAmethyl_1.41.0.tar.gz PackageFileSize: 87.32 KiB