Package: MBASED Version: 1.41.0 Command: rm -rf MBASED.buildbin-libdir && mkdir MBASED.buildbin-libdir && E:\biocbuild\bbs-3.21-bioc\R\bin\R.exe CMD INSTALL --build --library=MBASED.buildbin-libdir MBASED_1.41.0.tar.gz StartedAt: 2025-02-21 08:28:03 -0500 (Fri, 21 Feb 2025) EndedAt: 2025-02-21 08:28:47 -0500 (Fri, 21 Feb 2025) EllapsedTime: 43.4 seconds RetCode: 0 Status: OK PackageFile: MBASED_1.41.0.zip PackageFileSize: 498.9 KiB