Package: MBASED Version: 1.41.0 Command: /home/biocbuild/bbs-3.21-bioc/R/bin/R CMD INSTALL MBASED StartedAt: 2025-02-20 15:42:29 -0500 (Thu, 20 Feb 2025) EndedAt: 2025-02-20 15:42:51 -0500 (Thu, 20 Feb 2025) EllapsedTime: 21.9 seconds RetCode: 0 Status: OK