Package: MBASED Version: 1.41.0 Command: /home/biocbuild/bbs-3.21-bioc/R/bin/R CMD check --install=check:MBASED.install-out.txt --library=/home/biocbuild/bbs-3.21-bioc/R/site-library --timings MBASED_1.41.0.tar.gz StartedAt: 2025-02-20 23:18:20 -0500 (Thu, 20 Feb 2025) EndedAt: 2025-02-20 23:22:42 -0500 (Thu, 20 Feb 2025) EllapsedTime: 261.4 seconds RetCode: 0 Status: OK CheckDir: MBASED.Rcheck Warnings: 0