Package: MBASED Version: 1.41.0 Command: /Library/Frameworks/R.framework/Resources/bin/R CMD INSTALL MBASED StartedAt: 2025-02-19 15:10:16 -0500 (Wed, 19 Feb 2025) EndedAt: 2025-02-19 15:10:25 -0500 (Wed, 19 Feb 2025) EllapsedTime: 8.7 seconds RetCode: 0 Status: OK