Package: MBASED Version: 1.41.0 Command: /Library/Frameworks/R.framework/Resources/bin/R CMD build --keep-empty-dirs --no-resave-data MBASED StartedAt: 2025-02-20 16:49:38 -0500 (Thu, 20 Feb 2025) EndedAt: 2025-02-20 16:50:27 -0500 (Thu, 20 Feb 2025) EllapsedTime: 48.6 seconds RetCode: 0 Status: OK PackageFile: MBASED_1.41.0.tar.gz PackageFileSize: 364.2 KiB