Package: MAST Version: 1.33.0 Command: chmod a+r MAST -R && E:\biocbuild\bbs-3.21-bioc\R\bin\R.exe CMD build --keep-empty-dirs --no-resave-data MAST StartedAt: 2025-02-17 19:35:06 -0500 (Mon, 17 Feb 2025) EndedAt: 2025-02-17 19:41:58 -0500 (Mon, 17 Feb 2025) EllapsedTime: 412.2 seconds RetCode: 0 Status: OK PackageFile: MAST_1.33.0.tar.gz PackageFileSize: 5.39 MiB