Package: MAST Version: 1.33.0 Command: /home/biocbuild/bbs-3.21-bioc/R/bin/R CMD INSTALL MAST StartedAt: 2025-02-17 15:19:15 -0500 (Mon, 17 Feb 2025) EndedAt: 2025-02-17 15:19:54 -0500 (Mon, 17 Feb 2025) EllapsedTime: 39.0 seconds RetCode: 0 Status: OK