Package: MAST Version: 1.33.0 Command: /home/biocbuild/bbs-3.21-bioc/R/bin/R CMD check --install=check:MAST.install-out.txt --library=/home/biocbuild/bbs-3.21-bioc/R/site-library --timings MAST_1.33.0.tar.gz StartedAt: 2025-02-17 23:32:03 -0500 (Mon, 17 Feb 2025) EndedAt: 2025-02-17 23:40:10 -0500 (Mon, 17 Feb 2025) EllapsedTime: 487.6 seconds RetCode: 0 Status: WARNINGS CheckDir: MAST.Rcheck Warnings: 1