Package: MAST Version: 1.33.0 Command: /home/biocbuild/bbs-3.21-bioc/R/bin/R CMD build --keep-empty-dirs --no-resave-data MAST StartedAt: 2025-02-17 17:52:29 -0500 (Mon, 17 Feb 2025) EndedAt: 2025-02-17 17:56:31 -0500 (Mon, 17 Feb 2025) EllapsedTime: 242.3 seconds RetCode: 0 Status: OK PackageFile: MAST_1.33.0.tar.gz PackageFileSize: 7.266 MiB