Package: MAST Version: 1.33.0 Command: /Library/Frameworks/R.framework/Resources/bin/R CMD build --keep-empty-dirs --no-resave-data MAST StartedAt: 2025-02-19 17:13:08 -0500 (Wed, 19 Feb 2025) EndedAt: 2025-02-19 17:17:52 -0500 (Wed, 19 Feb 2025) EllapsedTime: 284.2 seconds RetCode: 0 Status: OK PackageFile: MAST_1.33.0.tar.gz PackageFileSize: 7.203 MiB