Package: MAST Version: 1.33.0 Command: /Library/Frameworks/R.framework/Resources/bin/R CMD check --install=check:MAST.install-out.txt --library=/Library/Frameworks/R.framework/Resources/library --no-vignettes --timings MAST_1.33.0.tar.gz StartedAt: 2025-02-17 19:58:38 -0500 (Mon, 17 Feb 2025) EndedAt: 2025-02-17 20:00:22 -0500 (Mon, 17 Feb 2025) EllapsedTime: 104.3 seconds RetCode: 1 Status: ERROR CheckDir: MAST.Rcheck Warnings: NA