Package: MAPFX Version: 1.3.0 Command: E:\biocbuild\bbs-3.21-bioc\R\bin\R.exe CMD check --no-multiarch --install=check:MAPFX.install-out.txt --library=E:\biocbuild\bbs-3.21-bioc\R\library --no-vignettes --timings MAPFX_1.3.0.tar.gz StartedAt: 2025-02-20 02:34:55 -0500 (Thu, 20 Feb 2025) EndedAt: 2025-02-20 02:51:30 -0500 (Thu, 20 Feb 2025) EllapsedTime: 994.7 seconds RetCode: 0 Status: OK CheckDir: MAPFX.Rcheck Warnings: 0