Package: MAPFX Version: 1.3.0 Command: /Library/Frameworks/R.framework/Resources/bin/R CMD build --keep-empty-dirs --no-resave-data MAPFX StartedAt: 2025-02-20 17:12:06 -0500 (Thu, 20 Feb 2025) EndedAt: 2025-02-20 17:20:21 -0500 (Thu, 20 Feb 2025) EllapsedTime: 494.7 seconds RetCode: 0 Status: OK PackageFile: MAPFX_1.3.0.tar.gz PackageFileSize: 3.543 MiB