Package: MAPFX Version: 1.3.0 Command: /Library/Frameworks/R.framework/Resources/bin/R CMD check --install=check:MAPFX.install-out.txt --library=/Library/Frameworks/R.framework/Resources/library --no-vignettes --timings MAPFX_1.3.0.tar.gz StartedAt: 2025-02-19 20:01:08 -0500 (Wed, 19 Feb 2025) EndedAt: 2025-02-19 20:05:36 -0500 (Wed, 19 Feb 2025) EllapsedTime: 268.3 seconds RetCode: 0 Status: OK CheckDir: MAPFX.Rcheck Warnings: 0