Package: MAPFX Version: 1.3.0 Command: /Library/Frameworks/R.framework/Resources/bin/R CMD build --keep-empty-dirs --no-resave-data MAPFX StartedAt: 2025-02-20 16:48:28 -0500 (Thu, 20 Feb 2025) EndedAt: 2025-02-20 16:52:02 -0500 (Thu, 20 Feb 2025) EllapsedTime: 214.5 seconds RetCode: 0 Status: OK PackageFile: MAPFX_1.3.0.tar.gz PackageFileSize: 3.543 MiB