Package: MAPFX Version: 1.3.0 Command: rm -rf MAPFX.buildbin-libdir && mkdir MAPFX.buildbin-libdir && /Users/biocbuild/BBS/utils/build-universal.sh MAPFX_1.3.0.tar.gz /Library/Frameworks/R.framework/Resources/bin/R MAPFX.buildbin-libdir StartedAt: 2025-02-19 22:27:21 -0500 (Wed, 19 Feb 2025) EndedAt: 2025-02-19 22:27:32 -0500 (Wed, 19 Feb 2025) EllapsedTime: 10.2 seconds RetCode: 0 Status: OK PackageFile: MAPFX_1.3.0.tgz PackageFileSize: 2.506 MiB