Package: MANOR Version: 1.79.0 Command: /Library/Frameworks/R.framework/Resources/bin/R CMD INSTALL MANOR StartedAt: 2025-02-21 15:01:43 -0500 (Fri, 21 Feb 2025) EndedAt: 2025-02-21 15:01:49 -0500 (Fri, 21 Feb 2025) EllapsedTime: 5.9 seconds RetCode: 1 Status: ERROR