Package: MAIT Version: 1.41.0 Command: chmod a+r MAIT -R && E:\biocbuild\bbs-3.21-bioc\R\bin\R.exe CMD build --keep-empty-dirs --no-resave-data MAIT StartedAt: 2025-02-20 19:41:48 -0500 (Thu, 20 Feb 2025) EndedAt: 2025-02-20 19:46:09 -0500 (Thu, 20 Feb 2025) EllapsedTime: 261.1 seconds RetCode: 0 Status: OK PackageFile: MAIT_1.41.0.tar.gz PackageFileSize: 2.259 MiB