Package: MAIT Version: 1.41.0 Command: rm -rf MAIT.buildbin-libdir && mkdir MAIT.buildbin-libdir && E:\biocbuild\bbs-3.21-bioc\R\bin\R.exe CMD INSTALL --build --library=MAIT.buildbin-libdir MAIT_1.41.0.tar.gz StartedAt: 2025-02-21 08:27:00 -0500 (Fri, 21 Feb 2025) EndedAt: 2025-02-21 08:28:32 -0500 (Fri, 21 Feb 2025) EllapsedTime: 92.2 seconds RetCode: 0 Status: OK PackageFile: MAIT_1.41.0.zip PackageFileSize: 899.1 KiB