Package: MAIT Version: 1.41.0 Command: /home/biocbuild/bbs-3.21-bioc/R/bin/R CMD INSTALL MAIT StartedAt: 2025-02-20 15:52:58 -0500 (Thu, 20 Feb 2025) EndedAt: 2025-02-20 15:53:47 -0500 (Thu, 20 Feb 2025) EllapsedTime: 49.7 seconds RetCode: 0 Status: OK